BEGIN:VCALENDAR
VERSION:2.0
PRODID:-//Invest In the USA - ECPv6.15.18//NONSGML v1.0//EN
CALSCALE:GREGORIAN
METHOD:PUBLISH
X-WR-CALNAME:Invest In the USA
X-ORIGINAL-URL:https://iiusa.org
X-WR-CALDESC:Events for Invest In the USA
REFRESH-INTERVAL;VALUE=DURATION:PT1H
X-Robots-Tag:noindex
X-PUBLISHED-TTL:PT1H
BEGIN:VTIMEZONE
TZID:America/New_York
BEGIN:DAYLIGHT
TZOFFSETFROM:-0500
TZOFFSETTO:-0400
TZNAME:EDT
DTSTART:20190310T070000
END:DAYLIGHT
BEGIN:STANDARD
TZOFFSETFROM:-0400
TZOFFSETTO:-0500
TZNAME:EST
DTSTART:20191103T060000
END:STANDARD
BEGIN:DAYLIGHT
TZOFFSETFROM:-0500
TZOFFSETTO:-0400
TZNAME:EDT
DTSTART:20200308T070000
END:DAYLIGHT
BEGIN:STANDARD
TZOFFSETFROM:-0400
TZOFFSETTO:-0500
TZNAME:EST
DTSTART:20201101T060000
END:STANDARD
BEGIN:DAYLIGHT
TZOFFSETFROM:-0500
TZOFFSETTO:-0400
TZNAME:EDT
DTSTART:20210314T070000
END:DAYLIGHT
BEGIN:STANDARD
TZOFFSETFROM:-0400
TZOFFSETTO:-0500
TZNAME:EST
DTSTART:20211107T060000
END:STANDARD
END:VTIMEZONE
BEGIN:VEVENT
DTSTART;TZID=America/New_York:20201118T110000
DTEND;TZID=America/New_York:20201118T120000
DTSTAMP:20260420T034026
CREATED:20201108T221440Z
LAST-MODIFIED:20201117T221414Z
UID:29530-1605697200-1605700800@iiusa.org
SUMMARY:2020 IIUSA Virtual Forum: Post-COVID Outlook for the Largest EB-5 Markets
DESCRIPTION:
URL:https://iiusa.org/event/2020-iiusa-virtual-forum-post-covid-outlook-for-the-largest-eb-5-markets/
END:VEVENT
BEGIN:VEVENT
DTSTART;TZID=America/New_York:20201118T093000
DTEND;TZID=America/New_York:20201118T103000
DTSTAMP:20260420T034026
CREATED:20201108T221440Z
LAST-MODIFIED:20201117T221414Z
UID:29529-1605691800-1605695400@iiusa.org
SUMMARY:2020 IIUSA Virtual Forum: E2 to EB-5 A Viable Route to the U.S.? What About EB-1C?
DESCRIPTION:
URL:https://iiusa.org/event/2020-iiusa-virtual-forum-e2-to-eb-5-a-viable-route-to-the-u-s-what-about-eb-1c/
END:VEVENT
BEGIN:VEVENT
DTSTART;TZID=America/New_York:20201118T080000
DTEND;TZID=America/New_York:20201118T090000
DTSTAMP:20260420T034026
CREATED:20201108T221440Z
LAST-MODIFIED:20201117T221414Z
UID:29528-1605686400-1605690000@iiusa.org
SUMMARY:2020 IIUSA Virtual Forum: Emerging Investor Market Trends Around the Globe
DESCRIPTION:
URL:https://iiusa.org/event/2020-iiusa-virtual-forum-emerging-investor-market-trends-around-the-globe/
END:VEVENT
BEGIN:VEVENT
DTSTART;TZID=America/New_York:20201117T140000
DTEND;TZID=America/New_York:20201117T150000
DTSTAMP:20260420T034026
CREATED:20201108T221440Z
LAST-MODIFIED:20201116T221441Z
UID:29527-1605621600-1605625200@iiusa.org
SUMMARY:2020 IIUSA Virtual Forum: Real Estate Workouts: Unique Challenges Facing EB-5 in the Wake of COVID-19
DESCRIPTION:
URL:https://iiusa.org/event/2020-iiusa-virtual-forum-real-estate-workouts-unique-challenges-facing-eb-5-in-the-wake-of-covid-19/
END:VEVENT
BEGIN:VEVENT
DTSTART;TZID=America/New_York:20201117T120000
DTEND;TZID=America/New_York:20201117T130000
DTSTAMP:20260420T034026
CREATED:20201108T221440Z
LAST-MODIFIED:20201116T221441Z
UID:29526-1605614400-1605618000@iiusa.org
SUMMARY:2020 IIUSA Virtual Forum: Opportunity Zones & EB-5: Working Together for American Communities
DESCRIPTION:
URL:https://iiusa.org/event/2020-iiusa-virtual-forum-opportunity-zones-eb-5-working-together-for-american-communities/
END:VEVENT
BEGIN:VEVENT
DTSTART;TZID=America/New_York:20201112T140000
DTEND;TZID=America/New_York:20201112T150000
DTSTAMP:20260420T034026
CREATED:20201108T221440Z
LAST-MODIFIED:20201111T221439Z
UID:29525-1605189600-1605193200@iiusa.org
SUMMARY:2020 IIUSA Virtual Forum: Redeployment: How the Policy Manual Update Affects Current and Future Investors & Projects
DESCRIPTION:
URL:https://iiusa.org/event/2020-iiusa-virtual-forum-redeployment-how-the-policy-manual-update-affects-current-and-future-investors-projects/
END:VEVENT
BEGIN:VEVENT
DTSTART;TZID=America/New_York:20201112T120000
DTEND;TZID=America/New_York:20201112T130000
DTSTAMP:20260420T034026
CREATED:20201108T221440Z
LAST-MODIFIED:20201111T221438Z
UID:29524-1605182400-1605186000@iiusa.org
SUMMARY:2020 IIUSA Virtual Forum: RFE and Denial Trends: What to Anticipate and How to Respond to Keep Your Project in Motion
DESCRIPTION:
URL:https://iiusa.org/event/2020-iiusa-virtual-forum-rfe-and-denial-trends-what-to-anticipate-and-how-to-respond-to-keep-your-project-in-motion/
END:VEVENT
BEGIN:VEVENT
DTSTART;TZID=America/New_York:20201110T150000
DTEND;TZID=America/New_York:20201110T154500
DTSTAMP:20260420T034026
CREATED:20201108T221439Z
LAST-MODIFIED:20201109T221429Z
UID:29523-1605020400-1605023100@iiusa.org
SUMMARY:2020 IIUSA Virtual Forum: Assuring USCIS Priorities: A Conversation with EB-5 Experts
DESCRIPTION:
URL:https://iiusa.org/event/2020-iiusa-virtual-forum-assuring-uscis-priorities-a-conversation-with-eb-5-experts/
END:VEVENT
BEGIN:VEVENT
DTSTART;TZID=America/New_York:20201110T140000
DTEND;TZID=America/New_York:20201110T144500
DTSTAMP:20260420T034026
CREATED:20201108T221439Z
LAST-MODIFIED:20201109T221429Z
UID:29522-1605016800-1605019500@iiusa.org
SUMMARY:2020 IIUSA Virtual Forum: Guest of Honor: Ms. Sarah M. Kendall\, Chief of the Immigrant Investor Program Office (IPO) at USCIS
DESCRIPTION:
URL:https://iiusa.org/event/2020-iiusa-virtual-forum-guest-of-honor-ms-sarah-m-kendall-chief-of-the-immigrant-investor-program-office-ipo-at-uscis/
END:VEVENT
BEGIN:VEVENT
DTSTART;TZID=America/New_York:20201110T120000
DTEND;TZID=America/New_York:20201119T133000
DTSTAMP:20260420T034026
CREATED:20200911T201442Z
LAST-MODIFIED:20201102T205018Z
UID:28332-1605009600-1605792600@iiusa.org
SUMMARY:2020 IIUSA Virtual Industry Forum
DESCRIPTION:https://www.eventbrite.com/e/2020-iiusa-virtual-industry-forum-tickets-114446711194  
URL:https://iiusa.org/event/2020-iiusa-virtual-industry-forum-2/
END:VEVENT
BEGIN:VEVENT
DTSTART;TZID=America/New_York:20201110T120000
DTEND;TZID=America/New_York:20201110T130000
DTSTAMP:20260420T034026
CREATED:20201108T221439Z
LAST-MODIFIED:20201109T221429Z
UID:29521-1605009600-1605013200@iiusa.org
SUMMARY:2020 IIUSA Virtual Forum: Post Election Outlook for the EB-5 Regional Center Industry
DESCRIPTION:
URL:https://iiusa.org/event/2020-iiusa-virtual-forum-post-election-outlook-for-the-eb-5-regional-center-industry/
END:VEVENT
BEGIN:VEVENT
DTSTART;TZID=America/New_York:20201008T130000
DTEND;TZID=America/New_York:20201008T140000
DTSTAMP:20260420T034026
CREATED:20200917T202945Z
LAST-MODIFIED:20201007T234430Z
UID:28494-1602162000-1602165600@iiusa.org
SUMMARY:CMF: Creating Effective Stories to Share with Congress: How to Move the Hearts\, Minds\, and VOTES of Lawmakers | Webinar
DESCRIPTION:Contact info@iiusa.org to register.
URL:https://iiusa.org/event/cmf-creating-effective-stories-to-share-with-congress-how-to-move-the-hearts-minds-and-votes-of-lawmakers-webinar/
END:VEVENT
BEGIN:VEVENT
DTSTART;TZID=America/New_York:20200916T120000
DTEND;TZID=America/New_York:20200916T133000
DTSTAMP:20260420T034026
CREATED:20200908T181731Z
LAST-MODIFIED:20200915T202922Z
UID:28251-1600257600-1600263000@iiusa.org
SUMMARY:IIUSA Mid-Year Government Affairs and Association Update
DESCRIPTION:https://www.eventbrite.com/e/iiusa-mid-year-government-affairs-and-association-update-tickets-116652481713
URL:https://iiusa.org/event/iiusa-mid-year-government-affairs-and-association-update/
END:VEVENT
BEGIN:VEVENT
DTSTART;TZID=America/New_York:20200909T083000
DTEND;TZID=America/New_York:20200909T100000
DTSTAMP:20260420T034026
CREATED:20200810T171439Z
LAST-MODIFIED:20200908T181731Z
UID:27641-1599640200-1599645600@iiusa.org
SUMMARY:IIUSA & IMC Virtual Event: "U.S. EB-5 Program Legislative Updates and Pre-Election Outlook"
DESCRIPTION:
URL:https://iiusa.org/event/iiusa-imc-virtual-event-u-s-eb-5-program-legislative-updates-and-pre-election-outlook-2/
END:VEVENT
BEGIN:VEVENT
DTSTART;VALUE=DATE:20200904
DTEND;VALUE=DATE:20200906
DTSTAMP:20260420T034026
CREATED:20200805T105034Z
LAST-MODIFIED:20200905T194421Z
UID:27506-1599177600-1599350399@iiusa.org
SUMMARY:IREX Residency & Citizenship Conclave Virtual Edition
DESCRIPTION:https://iiusa.org/blog/wp-content/uploads/2020/07/IREX-Virtual-Show-2020_Presentation_EB5-Sponsorship.pdf  
URL:https://iiusa.org/event/irex-residency-citizenship-conclave-virtual-edition/
END:VEVENT
BEGIN:VEVENT
DTSTART;TZID=America/New_York:20200820T150000
DTEND;TZID=America/New_York:20200820T170000
DTSTAMP:20260420T034026
CREATED:20200728T214220Z
LAST-MODIFIED:20200820T185919Z
UID:27011-1597935600-1597942800@iiusa.org
SUMMARY:IIUSA EB-5 Investor Market Webinar Series: Brazil and Latin America
DESCRIPTION:https://www.eventbrite.com/e/iiusa-eb-5-investor-market-webinar-series-brazil-and-latin-america-tickets-81514595349
URL:https://iiusa.org/event/iiusa-eb-5-investor-market-webinar-series-brazil-and-latin-america/
END:VEVENT
BEGIN:VEVENT
DTSTART;TZID=America/New_York:20200820T143000
DTEND;TZID=America/New_York:20200820T170000
DTSTAMP:20260420T034026
CREATED:20200805T105034Z
LAST-MODIFIED:20200820T185919Z
UID:27505-1597933800-1597942800@iiusa.org
SUMMARY:IIUSA EB-5 Investor Market Webinar Series: Brazil
DESCRIPTION:All speakers please log in 30 minutes prior to the event (2:30 EST) to test your computer audio and to answer any final questions. Link Speakers: https://wtcclub.webex.com/wtcclub/onstage/g.php?MTID=eeca16c3f81d157e1a0ed9c0b19d82bbc \nPassword: 1234  
URL:https://iiusa.org/event/iiusa-eb-5-investor-market-webinar-series-south-asia/
LOCATION:https://wtcclub.webex.com/wtcclub/onstage/g.php?MTID=eeca16c3f81d157e1a0ed9c0b19d82bbc
ORGANIZER;CN="Industry Events":MAILTO:iiusa.org_703pakf6hf1oh3o89mv5u32nok@group.calendar.google.com
END:VEVENT
BEGIN:VEVENT
DTSTART;TZID=America/New_York:20200812T140000
DTEND;TZID=America/New_York:20200812T150000
DTSTAMP:20260420T034026
CREATED:20200728T214220Z
LAST-MODIFIED:20200810T171436Z
UID:27010-1597240800-1597244400@iiusa.org
SUMMARY:EB-5 Trends and Redeployment During COVID Webinar
DESCRIPTION:   https://nesfinancial.com/eb5-webinar-august-2020?utm_source=iiusa&utm_medium=paid-campagin&utm_campaign=2020-eb-5-webinar
URL:https://iiusa.org/event/eb-5-trends-and-redeployment-during-covid-webinar/
END:VEVENT
BEGIN:VEVENT
DTSTART;TZID=America/New_York:20200812T080000
DTEND;TZID=America/New_York:20200812T103000
DTSTAMP:20260420T034026
CREATED:20200728T214220Z
LAST-MODIFIED:20200810T171436Z
UID:27009-1597219200-1597228200@iiusa.org
SUMMARY:IIUSA EB-5 Investor Market Webinar Series: Hong Kong
DESCRIPTION:https://www.eventbrite.com/e/iiusa-eb-5-investor-market-webinar-series-hong-kong-tickets-109339001898
URL:https://iiusa.org/event/iiusa-eb-5-investor-market-webinar-series-hong-kong/
END:VEVENT
BEGIN:VEVENT
DTSTART;TZID=America/New_York:20200608T100000
DTEND;TZID=America/New_York:20200609T113000
DTSTAMP:20260420T034026
CREATED:20200519T153313Z
LAST-MODIFIED:20200524T045105Z
UID:25396-1591610400-1591702200@iiusa.org
SUMMARY:IIUSA EB-5 Investor Market Webinar Series: South Africa
DESCRIPTION:Key Insights into the South African EB-5 & E2 Market \nIn partnership with:  \n \nThe IIUSA Investor Market Webinar Series is the association’s digital resource\, curated to provide our listeners with key insights into the most important investor markets around the globe. \nThis June IIUSA\, the Johannesburg Chamber of Commerce and Industry and our expert panelists will draw on their in-depth market knowledge and experience to provide listeners with unique insights and answer questions during this live and interactive event. \nThis will be a two-day event and registration will cover both discussion topics: \nJune 8\, 2020: 10:00 AM -11:30 AM EST \nTopics \n\n\nWhat is EB-5 investment immigration? \n\n\nEB-5 Regulations. What they are and what they mean for me \n\n\nEB-5 visa processing & adjudication trends \n\n\nThe latest updates from the EB-5 industry trade association \n\n\nPresenters \n\n\nCMB Regional Centers  \n\n\nAmerican Dream  \n\n\nAmerican Immigration Group  \n\n\nLCR Capital Partners  \n\n\nMiller Mayer \n\n\nPathways EB-5  \n\n\nVersfeld & Hugo\, LLC  \n\n\nJune 9\, 2020: 10:00 AM -11:30 AM EST \nTopics  \n\n\nE2 investment through Grenada  \n\n\nUnderstanding the E2 Treaty Investor visa category \n\n\nEB-5 v. E2 which option is right for me? \n\n\nPresenters  \n\n\nFirstPathway Partners  \n\n\nLaw Offices of Grant Kaplan  \n\n\nRange Developments 
URL:https://iiusa.org/event/iiusa-eb-5-investor-market-webinar-series-south-africa-2/
ATTACH;FMTTYPE=image/jpeg:https://iiusa.org/wp-content/uploads/2020/05/60ca5e9be23308d33a9968f2058ca50d.jpg
END:VEVENT
BEGIN:VEVENT
DTSTART;TZID=America/New_York:20200608T100000
DTEND;TZID=America/New_York:20200609T110000
DTSTAMP:20260420T034026
CREATED:20200518T220855Z
LAST-MODIFIED:20200603T132628Z
UID:23525-1591610400-1591700400@iiusa.org
SUMMARY:IIUSA EB-5 Investor Market Webinar Series: South Africa
DESCRIPTION:https://www.eventbrite.com/e/iiusa-eb-5-investor-market-webinar-series-south-africa-tickets-81510739817  
URL:https://iiusa.org/event/iiusa-eb-5-investor-market-webinar-series-south-africa/
END:VEVENT
BEGIN:VEVENT
DTSTART;TZID=America/New_York:20200602T130000
DTEND;TZID=America/New_York:20200602T143000
DTSTAMP:20260420T034026
CREATED:20200518T220855Z
LAST-MODIFIED:20200528T114959Z
UID:23524-1591102800-1591108200@iiusa.org
SUMMARY:A Discussion With Charlie Oppenheim: Chief\, Visa Control and Reporting Division\, U.S. Department of State
DESCRIPTION:https://www.eventbrite.com/e/a-discussion-with-charlie-oppenheim-chief-visa-control-and-reporting-division-us-department-of-state-tickets-105420702158  
URL:https://iiusa.org/event/a-discussion-with-charlie-oppenheim-chief-visa-control-and-reporting-division-u-s-department-of-state/
END:VEVENT
BEGIN:VEVENT
DTSTART;VALUE=DATE:20200601
DTEND;VALUE=DATE:20200602
DTSTAMP:20260420T034026
CREATED:20200518T221013Z
LAST-MODIFIED:20200601T225404Z
UID:23531-1590969600-1591055999@iiusa.org
SUMMARY:EB5Investors.com: 2020 EB-5 & UGlobal Immigration Expo | Moscow\, Russia
DESCRIPTION:https://www.eb5investors.com/conferences/2020-eb5-moscow
URL:https://iiusa.org/event/eb5investors-com-2020-eb-5-uglobal-immigration-expo-moscow-russia/
END:VEVENT
BEGIN:VEVENT
DTSTART;VALUE=DATE:20200601
DTEND;VALUE=DATE:20200605
DTSTAMP:20260420T034026
CREATED:20200518T221013Z
LAST-MODIFIED:20200528T114959Z
UID:23530-1590969600-1591315199@iiusa.org
SUMMARY:IMC: The Investment Migration Forum | Brussels\, Belgium
DESCRIPTION:https://investmentmigrationforum.org/  
URL:https://iiusa.org/event/imc-the-investment-migration-forum-brussels-belgium/
END:VEVENT
BEGIN:VEVENT
DTSTART;TZID=America/New_York:20200521T100000
DTEND;TZID=America/New_York:20200521T113000
DTSTAMP:20260420T034026
CREATED:20200518T220855Z
LAST-MODIFIED:20200520T224401Z
UID:23523-1590055200-1590060600@iiusa.org
SUMMARY:IIUSA EB-5 Investor Market Webinar Series: India
DESCRIPTION:https://www.eventbrite.com/e/iiusa-eb-5-investor-market-webinar-india-tickets-103355930370  
URL:https://iiusa.org/event/iiusa-eb-5-investor-market-webinar-series-india/
END:VEVENT
END:VCALENDAR